BEGIN:VCALENDAR
VERSION:2.0
PRODID:-//Plone.org//NONSGML plone.app.event//EN
X-WR-TIMEZONE:Europe/Rome
BEGIN:VEVENT
SUMMARY:Seminar: India’s domestic and foreign policy 1947-64: socialist 
 planning and non-alignment
DTSTART;TZID=Europe/Rome;VALUE=DATE-TIME:20210426T150000
DTEND;TZID=Europe/Rome;VALUE=DATE-TIME:20210426T170000
DTSTAMP;VALUE=DATE-TIME:20260419T215139Z
UID:18e56999e6b844448792a7c6b909de92@dsps.unibo.it
CREATED;VALUE=DATE-TIME:20210406T092519Z
DESCRIPTION:Elena Nora Jucyte\, doctoral researcher\, PhD STUDIES IN ORIEN
 TAL LANGUAGES AND CIVILIZATIONS - INDIAN SUBCONTINENT\, Sapienza Universit
 y of Rome
LAST-MODIFIED;VALUE=DATE-TIME:20210406T092838Z
URL:https://dsps.unibo.it/it/eventi/seminar
END:VEVENT
BEGIN:VTIMEZONE
TZID:Europe/Rome
X-LIC-LOCATION:Europe/Rome
BEGIN:DAYLIGHT
DTSTART;VALUE=DATE-TIME:20210328T030000
TZNAME:CEST
TZOFFSETFROM:+0100
TZOFFSETTO:+0200
END:DAYLIGHT
END:VTIMEZONE
END:VCALENDAR
