BEGIN:VCALENDAR
VERSION:2.0
PRODID:-//Plone.org//NONSGML plone.app.event//EN
X-WR-TIMEZONE:Europe/Rome
BEGIN:VEVENT
SUMMARY:Seminar: Radicalization of Indian politics: rise to power of Indir
 a Gandhi
DTSTART;TZID=Europe/Rome;VALUE=DATE-TIME:20210503T150000
DTEND;TZID=Europe/Rome;VALUE=DATE-TIME:20210503T170000
DTSTAMP;VALUE=DATE-TIME:20260419T203209Z
UID:062097ab416c4f50b9a56d059f613273@dsps.unibo.it
CREATED;VALUE=DATE-TIME:20210406T093050Z
DESCRIPTION:Elena Nora Jucyte\, doctoral researcher\, PhD STUDIES IN ORIEN
 TAL LANGUAGES AND CIVILIZATIONS - INDIAN SUBCONTINENT\, Sapienza Universit
 y of Rome
LAST-MODIFIED;VALUE=DATE-TIME:20210406T093144Z
URL:https://dsps.unibo.it/it/eventi/seminar-radicalization-of-indian-polit
 ics-rise-to-power-of-indira-gandhi
END:VEVENT
BEGIN:VTIMEZONE
TZID:Europe/Rome
X-LIC-LOCATION:Europe/Rome
BEGIN:DAYLIGHT
DTSTART;VALUE=DATE-TIME:20210328T030000
TZNAME:CEST
TZOFFSETFROM:+0100
TZOFFSETTO:+0200
END:DAYLIGHT
END:VTIMEZONE
END:VCALENDAR
