BEGIN:VCALENDAR
VERSION:2.0
PRODID:-//Plone.org//NONSGML plone.app.event//EN
X-WR-TIMEZONE:Europe/Rome
BEGIN:VEVENT
SUMMARY:Seminar: Emergence of the world’s largest democracy: Nehru’s I
 ndia
DTSTART;TZID=Europe/Rome;VALUE=DATE-TIME:20210419T150000
DTEND;TZID=Europe/Rome;VALUE=DATE-TIME:20210419T170000
DTSTAMP;VALUE=DATE-TIME:20260421T155254Z
UID:1a3fa1e3461442d7ae8be7618138f573@dsps.unibo.it
CREATED;VALUE=DATE-TIME:20210406T083645Z
DESCRIPTION:Elena Nora Jucyte\, doctoral researcher\, PhD STUDIES IN ORIEN
 TAL LANGUAGES AND CIVILIZATIONS - INDIAN SUBCONTINENT\, Sapienza Universit
 y of Rome
LAST-MODIFIED;VALUE=DATE-TIME:20210406T084749Z
URL:https://dsps.unibo.it/it/eventi/seminar-emergence-of-the-world-s-large
 st-democracy-nehru-s-india
END:VEVENT
BEGIN:VTIMEZONE
TZID:Europe/Rome
X-LIC-LOCATION:Europe/Rome
BEGIN:DAYLIGHT
DTSTART;VALUE=DATE-TIME:20210328T030000
TZNAME:CEST
TZOFFSETFROM:+0100
TZOFFSETTO:+0200
END:DAYLIGHT
END:VTIMEZONE
END:VCALENDAR
