BEGIN:VCALENDAR
VERSION:2.0
PRODID:-//Plone.org//NONSGML plone.app.event//EN
X-WR-TIMEZONE:Europe/Rome
BEGIN:VEVENT
SUMMARY:Seminar: Cooperation and conflict in the Arctic
DTSTART;TZID=Europe/Rome;VALUE=DATE-TIME:20210525T110000
DTEND;TZID=Europe/Rome;VALUE=DATE-TIME:20210525T130000
DTSTAMP;VALUE=DATE-TIME:20260421T142146Z
UID:7c7a2f5594dd40a0b89d9ae4e074152d@dsps.unibo.it
CREATED;VALUE=DATE-TIME:20210406T093650Z
DESCRIPTION:Dr. Tiziana Melchiorre (Marie Skłodowska-Curie Fellow\, Amste
 rdam Centre for European Law and Governance (ACELG)\, Universiteit van Ams
 terdam (UvA)
LAST-MODIFIED;VALUE=DATE-TIME:20210406T093737Z
URL:https://dsps.unibo.it/it/eventi/seminar-cooperation-and-conflict-in-th
 e-arctic
END:VEVENT
BEGIN:VTIMEZONE
TZID:Europe/Rome
X-LIC-LOCATION:Europe/Rome
BEGIN:DAYLIGHT
DTSTART;VALUE=DATE-TIME:20210328T030000
TZNAME:CEST
TZOFFSETFROM:+0100
TZOFFSETTO:+0200
END:DAYLIGHT
END:VTIMEZONE
END:VCALENDAR
