BEGIN:VCALENDAR
VERSION:2.0
PRODID:-//Plone.org//NONSGML plone.app.event//EN
X-WR-TIMEZONE:Europe/Rome
BEGIN:VEVENT
SUMMARY:Seminar: Breakthrough in Indo-Soviet relations: Congress – Commu
 nist Party of India alliance and Indo-Soviet treaty of Friendship and Coop
 eration
DTSTART;TZID=Europe/Rome;VALUE=DATE-TIME:20210510T150000
DTEND;TZID=Europe/Rome;VALUE=DATE-TIME:20210510T170000
DTSTAMP;VALUE=DATE-TIME:20260419T203209Z
UID:a7da8fe7b0494b04b7387f069c6b7680@dsps.unibo.it
CREATED;VALUE=DATE-TIME:20210406T093420Z
DESCRIPTION:Elena Nora Jucyte\, doctoral researcher\, PhD STUDIES IN ORIEN
 TAL LANGUAGES AND CIVILIZATIONS - INDIAN SUBCONTINENT\, Sapienza Universit
 y of Rome
LAST-MODIFIED;VALUE=DATE-TIME:20210406T093458Z
URL:https://dsps.unibo.it/it/eventi/seminar-breakthrough-in-indo-soviet-re
 lations-congress-communist-party-of-india-alliance-and-indo-soviet-treaty-
 of-friendship-and-cooperation
END:VEVENT
BEGIN:VTIMEZONE
TZID:Europe/Rome
X-LIC-LOCATION:Europe/Rome
BEGIN:DAYLIGHT
DTSTART;VALUE=DATE-TIME:20210328T030000
TZNAME:CEST
TZOFFSETFROM:+0100
TZOFFSETTO:+0200
END:DAYLIGHT
END:VTIMEZONE
END:VCALENDAR
