BEGIN:VCALENDAR
VERSION:2.0
PRODID:-//Plone.org//NONSGML plone.app.event//EN
X-WR-TIMEZONE:Europe/Rome
BEGIN:VEVENT
SUMMARY:Roundtable: The future of European security in a post-crises scena
 rio
DTSTART;TZID=Europe/Rome;VALUE=DATE-TIME:20210525T110000
DTEND;TZID=Europe/Rome;VALUE=DATE-TIME:20210525T130000
DTSTAMP;VALUE=DATE-TIME:20260419T185607Z
UID:5871defe2c5e4aac9985d6d03f504739@dsps.unibo.it
CREATED;VALUE=DATE-TIME:20210325T103541Z
DESCRIPTION:in the context of the Course of Pan-European Security
LAST-MODIFIED;VALUE=DATE-TIME:20210520T084655Z
URL:https://dsps.unibo.it/it/eventi/roundtable-the-future-of-european-secu
 rity-in-a-post-crises-scenario
END:VEVENT
BEGIN:VTIMEZONE
TZID:Europe/Rome
X-LIC-LOCATION:Europe/Rome
BEGIN:DAYLIGHT
DTSTART;VALUE=DATE-TIME:20210328T030000
TZNAME:CEST
TZOFFSETFROM:+0100
TZOFFSETTO:+0200
END:DAYLIGHT
END:VTIMEZONE
END:VCALENDAR
