BEGIN:VCALENDAR
VERSION:2.0
PRODID:-//Plone.org//NONSGML plone.app.event//EN
X-WR-TIMEZONE:Europe/Rome
BEGIN:VEVENT
SUMMARY:RI-ferire. La violenza maschile sulle donne
DTSTART;TZID=Europe/Rome;VALUE=DATE-TIME:20250110T150000
DTEND;TZID=Europe/Rome;VALUE=DATE-TIME:20250110T183000
DTSTAMP;VALUE=DATE-TIME:20260420T163143Z
UID:4d169aa00bb5456fa35122a9bad9c0b1@dsps.unibo.it
CREATED;VALUE=DATE-TIME:20250106T135044Z
LAST-MODIFIED;VALUE=DATE-TIME:20250107T095947Z
URL:https://dsps.unibo.it/it/eventi/ri-ferire-la-violenza-maschile-sulle-d
 onne
END:VEVENT
BEGIN:VTIMEZONE
TZID:Europe/Rome
X-LIC-LOCATION:Europe/Rome
BEGIN:STANDARD
DTSTART;VALUE=DATE-TIME:20241027T020000
TZNAME:CET
TZOFFSETFROM:+0200
TZOFFSETTO:+0100
END:STANDARD
END:VTIMEZONE
END:VCALENDAR
