BEGIN:VCALENDAR
VERSION:2.0
PRODID:-//Plone.org//NONSGML plone.app.event//EN
X-WR-TIMEZONE:Europe/Rome
BEGIN:VEVENT
SUMMARY:Remember Nansen: mostra fotografica al Campus di Forlì
DTSTART;VALUE=DATE:20210303
DTEND;VALUE=DATE:20210327
DTSTAMP;VALUE=DATE-TIME:20260421T155140Z
UID:a850aee7ec164d0bb9349ae75dc14d7c@dsps.unibo.it
CREATED;VALUE=DATE-TIME:20210312T135811Z
DESCRIPTION:Esposizione fotografica sul rimpatrio dei prigionieri di guerr
 a negli anni 1919-1922.
LAST-MODIFIED;VALUE=DATE-TIME:20210312T135953Z
URL:https://dsps.unibo.it/it/eventi/remember-nansen-mostra-fotografica-al-
 campus-di-forli
END:VEVENT
END:VCALENDAR
