BEGIN:VCALENDAR
VERSION:2.0
PRODID:-//Plone.org//NONSGML plone.app.event//EN
X-WR-TIMEZONE:Europe/Rome
BEGIN:VEVENT
SUMMARY:PROBLEM DEFINITION IN THE DIGITAL DEMOCRACY
DTSTART;TZID=Europe/Rome;VALUE=DATE-TIME:20251203T163000
DTEND;TZID=Europe/Rome;VALUE=DATE-TIME:20251203T183000
DTSTAMP;VALUE=DATE-TIME:20260420T180002Z
UID:aceda84433054640a4347006e3c6fd71@dsps.unibo.it
CREATED;VALUE=DATE-TIME:20251117T114202Z
DESCRIPTION:FABRIZIO GILARDI Professor of Policy Analysis\, Department of 
 Political Science\, University of Zurich
LAST-MODIFIED;VALUE=DATE-TIME:20251117T114228Z
URL:https://dsps.unibo.it/it/eventi/problem-definition-in-the-digital-demo
 cracy
END:VEVENT
BEGIN:VTIMEZONE
TZID:Europe/Rome
X-LIC-LOCATION:Europe/Rome
BEGIN:STANDARD
DTSTART;VALUE=DATE-TIME:20251026T020000
TZNAME:CET
TZOFFSETFROM:+0200
TZOFFSETTO:+0100
END:STANDARD
END:VTIMEZONE
END:VCALENDAR
