BEGIN:VCALENDAR
VERSION:2.0
PRODID:-//Plone.org//NONSGML plone.app.event//EN
X-WR-TIMEZONE:Europe/Rome
BEGIN:VEVENT
SUMMARY:Prestige\, shame and comfort: Exploring affective dimensions of yo
 ung girls’ (dis-)interest in STEM subjects
DTSTART;TZID=Europe/Rome;VALUE=DATE-TIME:20211210T140000
DTEND;TZID=Europe/Rome;VALUE=DATE-TIME:20211210T150000
DTSTAMP;VALUE=DATE-TIME:20260421T154746Z
UID:f10b782e004544f9b96bfbae90ca45ca@dsps.unibo.it
CREATED;VALUE=DATE-TIME:20211116T133340Z
DESCRIPTION:Jette Sandager\nPhD Fellow\nCOPENHAGEN BUSINESS SCHOOL\nDepart
 ment of Management\, Politics and Philosophy
LAST-MODIFIED;VALUE=DATE-TIME:20211203T081006Z
URL:https://dsps.unibo.it/it/eventi/prestige-shame-and-comfort
END:VEVENT
BEGIN:VTIMEZONE
TZID:Europe/Rome
X-LIC-LOCATION:Europe/Rome
BEGIN:STANDARD
DTSTART;VALUE=DATE-TIME:20211031T020000
TZNAME:CET
TZOFFSETFROM:+0200
TZOFFSETTO:+0100
END:STANDARD
END:VTIMEZONE
END:VCALENDAR
