BEGIN:VCALENDAR
VERSION:2.0
PRODID:-//Plone.org//NONSGML plone.app.event//EN
X-WR-TIMEZONE:Europe/Rome
BEGIN:VEVENT
SUMMARY:Presentazione volume "Il pericolo protestante" di Paolo Zanini
DTSTART;TZID=Europe/Rome;VALUE=DATE-TIME:20191212T170000
DTEND;TZID=Europe/Rome;VALUE=DATE-TIME:20191212T190000
DTSTAMP;VALUE=DATE-TIME:20260421T161234Z
UID:a0eca171502c424ab8c31085e98d8679@dsps.unibo.it
CREATED;VALUE=DATE-TIME:20191206T135835Z
DESCRIPTION:Chiesa e cattolici italiani di fronte alla questione della lib
 ertà religiosa (1922-1955)
LAST-MODIFIED;VALUE=DATE-TIME:20191206T140040Z
URL:https://dsps.unibo.it/it/eventi/presentazione-volume-il-pericolo-prote
 stante-di-paolo-zanini
END:VEVENT
BEGIN:VTIMEZONE
TZID:Europe/Rome
X-LIC-LOCATION:Europe/Rome
BEGIN:STANDARD
DTSTART;VALUE=DATE-TIME:20191027T020000
TZNAME:CET
TZOFFSETFROM:+0200
TZOFFSETTO:+0100
END:STANDARD
END:VTIMEZONE
END:VCALENDAR
