BEGIN:VCALENDAR
VERSION:2.0
PRODID:-//Plone.org//NONSGML plone.app.event//EN
X-WR-TIMEZONE:Europe/Rome
BEGIN:VEVENT
SUMMARY:"IL BUONO E IL CATTIVO TEMPO Joseph Chamberlain e il progetto rifo
 rmista e imperialista nell’Inghilterra tardovittoriana"
DTSTART;TZID=Europe/Rome;VALUE=DATE-TIME:20211117T170000
DTEND;TZID=Europe/Rome;VALUE=DATE-TIME:20211117T180000
DTSTAMP;VALUE=DATE-TIME:20260419T190209Z
UID:83bf92d890c94c11b65559f0381b2f31@dsps.unibo.it
CREATED;VALUE=DATE-TIME:20211109T111344Z
DESCRIPTION:Presentazione del volume di Giovanni Aldobrandini
LAST-MODIFIED;VALUE=DATE-TIME:20211109T111606Z
URL:https://dsps.unibo.it/it/eventi/presentazione-del-volume-il-buono-e-il
 -cattivo-tempo-joseph-chamberlain-e-il-progetto-riformista-e-imperialista-
 nell-inghilterra-tardovittoriana-di
END:VEVENT
BEGIN:VTIMEZONE
TZID:Europe/Rome
X-LIC-LOCATION:Europe/Rome
BEGIN:STANDARD
DTSTART;VALUE=DATE-TIME:20211031T020000
TZNAME:CET
TZOFFSETFROM:+0200
TZOFFSETTO:+0100
END:STANDARD
END:VTIMEZONE
END:VCALENDAR
