BEGIN:VCALENDAR
VERSION:2.0
PRODID:-//Plone.org//NONSGML plone.app.event//EN
X-WR-TIMEZONE:Europe/Rome
BEGIN:VEVENT
SUMMARY:Presentazione del libro "Le madri della Costituzione"
DTSTART;TZID=Europe/Rome;VALUE=DATE-TIME:20211020T173000
DTEND;TZID=Europe/Rome;VALUE=DATE-TIME:20211020T190000
DTSTAMP;VALUE=DATE-TIME:20260419T204123Z
UID:b34ffea930944d13ba72f2261f911f85@dsps.unibo.it
CREATED;VALUE=DATE-TIME:20211019T102736Z
LAST-MODIFIED;VALUE=DATE-TIME:20211019T102736Z
URL:https://dsps.unibo.it/it/eventi/presentazione-del-libro-le-madri-della
 -costituzione
END:VEVENT
BEGIN:VTIMEZONE
TZID:Europe/Rome
X-LIC-LOCATION:Europe/Rome
BEGIN:DAYLIGHT
DTSTART;VALUE=DATE-TIME:20210328T030000
TZNAME:CEST
TZOFFSETFROM:+0100
TZOFFSETTO:+0200
END:DAYLIGHT
END:VTIMEZONE
END:VCALENDAR
