BEGIN:VCALENDAR
VERSION:2.0
PRODID:-//Plone.org//NONSGML plone.app.event//EN
X-WR-TIMEZONE:Europe/Rome
BEGIN:VEVENT
SUMMARY:PRESENTAZIONE DEL LIBRO: Economic and Social Perspectives on Europ
 ean Migration
DTSTART;TZID=Europe/Rome;VALUE=DATE-TIME:20210325T180000
DTEND;TZID=Europe/Rome;VALUE=DATE-TIME:20210325T190000
DTSTAMP;VALUE=DATE-TIME:20260421T155253Z
UID:55b9d5cb5397430985c55617bb508d97@dsps.unibo.it
CREATED;VALUE=DATE-TIME:20210322T093159Z
DESCRIPTION:Volume a cura di: Francesca Fauri\, Debora Mantovani e Donatel
 la Strangio
LAST-MODIFIED;VALUE=DATE-TIME:20210322T093603Z
URL:https://dsps.unibo.it/it/eventi/presentazione-del-libro-economic-and-s
 ocial-perspectives-on-european-migration
END:VEVENT
BEGIN:VTIMEZONE
TZID:Europe/Rome
X-LIC-LOCATION:Europe/Rome
BEGIN:STANDARD
DTSTART;VALUE=DATE-TIME:20201025T020000
TZNAME:CET
TZOFFSETFROM:+0200
TZOFFSETTO:+0100
END:STANDARD
END:VTIMEZONE
END:VCALENDAR
