BEGIN:VCALENDAR
VERSION:2.0
PRODID:-//Plone.org//NONSGML plone.app.event//EN
X-WR-TIMEZONE:Europe/Rome
BEGIN:VEVENT
SUMMARY:Presentazione del libro di Matteo Battistini "Storia di un feticci
 o. La classe media americana dalle origini alla globalizzazione".
DTSTART;TZID=Europe/Rome;VALUE=DATE-TIME:20210525T170000
DTEND;TZID=Europe/Rome;VALUE=DATE-TIME:20210525T190000
DTSTAMP;VALUE=DATE-TIME:20260419T190208Z
UID:da7541ffb951472a80e02c9edf823393@dsps.unibo.it
CREATED;VALUE=DATE-TIME:20210514T090604Z
LAST-MODIFIED;VALUE=DATE-TIME:20210514T090605Z
URL:https://dsps.unibo.it/it/eventi/presentazione-del-libro-di-matteo-batt
 istini-storia-di-un-feticcio-la-classe-media-americana-dalle-origini-alla-
 globalizzazione
END:VEVENT
BEGIN:VTIMEZONE
TZID:Europe/Rome
X-LIC-LOCATION:Europe/Rome
BEGIN:DAYLIGHT
DTSTART;VALUE=DATE-TIME:20210328T030000
TZNAME:CEST
TZOFFSETFROM:+0100
TZOFFSETTO:+0200
END:DAYLIGHT
END:VTIMEZONE
END:VCALENDAR
