BEGIN:VCALENDAR
VERSION:2.0
PRODID:-//Plone.org//NONSGML plone.app.event//EN
X-WR-TIMEZONE:Europe/Rome
BEGIN:VEVENT
SUMMARY:Preferences and fertility. A global perspective
DTSTART;TZID=Europe/Rome;VALUE=DATE-TIME:20210519T120000
DTEND;TZID=Europe/Rome;VALUE=DATE-TIME:20210519T130000
DTSTAMP;VALUE=DATE-TIME:20260419T201433Z
UID:7c12629dd7d14c5bb02fc84bb5b732b7@dsps.unibo.it
CREATED;VALUE=DATE-TIME:20210517T150902Z
DESCRIPTION:Post-docs webinar series
LAST-MODIFIED;VALUE=DATE-TIME:20210517T151018Z
URL:https://dsps.unibo.it/it/eventi/preferences-and-fertility-a-global-per
 spective
END:VEVENT
BEGIN:VTIMEZONE
TZID:Europe/Rome
X-LIC-LOCATION:Europe/Rome
BEGIN:DAYLIGHT
DTSTART;VALUE=DATE-TIME:20210328T030000
TZNAME:CEST
TZOFFSETFROM:+0100
TZOFFSETTO:+0200
END:DAYLIGHT
END:VTIMEZONE
END:VCALENDAR
