BEGIN:VCALENDAR
VERSION:2.0
PRODID:-//Plone.org//NONSGML plone.app.event//EN
X-WR-TIMEZONE:Europe/Rome
BEGIN:VEVENT
SUMMARY:Political support and anti-liberal attitudes in pandemic times. Ev
 idence from western Europe
DTSTART;TZID=Europe/Rome;VALUE=DATE-TIME:20250211T130000
DTEND;TZID=Europe/Rome;VALUE=DATE-TIME:20250211T140000
DTSTAMP;VALUE=DATE-TIME:20260420T163302Z
UID:9a86b1cce8f94166a4bf68294647d9a0@dsps.unibo.it
CREATED;VALUE=DATE-TIME:20241016T080917Z
DESCRIPTION:Connect Seminar Series
LAST-MODIFIED;VALUE=DATE-TIME:20241016T080948Z
URL:https://dsps.unibo.it/it/eventi/political-support-and-anti-liberal-att
 itudes-in-pandemic-times-evidence-from-western-europe
END:VEVENT
BEGIN:VTIMEZONE
TZID:Europe/Rome
X-LIC-LOCATION:Europe/Rome
BEGIN:STANDARD
DTSTART;VALUE=DATE-TIME:20241027T020000
TZNAME:CET
TZOFFSETFROM:+0200
TZOFFSETTO:+0100
END:STANDARD
END:VTIMEZONE
END:VCALENDAR
