BEGIN:VCALENDAR
VERSION:2.0
PRODID:-//Plone.org//NONSGML plone.app.event//EN
X-WR-TIMEZONE:Europe/Rome
BEGIN:VEVENT
SUMMARY:Pluralism or disorder? The international order and the “decline
 ” of the West
DTSTART;TZID=Europe/Rome;VALUE=DATE-TIME:20210628T090000
DTEND;TZID=Europe/Rome;VALUE=DATE-TIME:20210628T163000
DTSTAMP;VALUE=DATE-TIME:20260419T190132Z
UID:866cf8575644404691e4f09c2893f94a@dsps.unibo.it
CREATED;VALUE=DATE-TIME:20210531T133236Z
DESCRIPTION:Early Career Scholars’ 2021 Conference
LAST-MODIFIED;VALUE=DATE-TIME:20210531T133519Z
URL:https://dsps.unibo.it/it/eventi/pluralism-or-disorder-the-internationa
 l-order-and-the-decline-of-the-west
END:VEVENT
BEGIN:VTIMEZONE
TZID:Europe/Rome
X-LIC-LOCATION:Europe/Rome
BEGIN:DAYLIGHT
DTSTART;VALUE=DATE-TIME:20210328T030000
TZNAME:CEST
TZOFFSETFROM:+0100
TZOFFSETTO:+0200
END:DAYLIGHT
END:VTIMEZONE
END:VCALENDAR
