BEGIN:VCALENDAR
VERSION:2.0
PRODID:-//Plone.org//NONSGML plone.app.event//EN
X-WR-TIMEZONE:Europe/Rome
BEGIN:VEVENT
SUMMARY:Per una storia dei diritti delle donne
DTSTART;TZID=Europe/Rome;VALUE=DATE-TIME:20241209T150000
DTEND;TZID=Europe/Rome;VALUE=DATE-TIME:20241209T170000
DTSTAMP;VALUE=DATE-TIME:20260420T130351Z
UID:4b4faf5f6c844a1e817e6ae5df52df2e@dsps.unibo.it
CREATED;VALUE=DATE-TIME:20241125T134713Z
LAST-MODIFIED;VALUE=DATE-TIME:20241203T094934Z
URL:https://dsps.unibo.it/it/eventi/per-una-storia-dei-diritti-delle-donne
 -1
END:VEVENT
BEGIN:VTIMEZONE
TZID:Europe/Rome
X-LIC-LOCATION:Europe/Rome
BEGIN:STANDARD
DTSTART;VALUE=DATE-TIME:20241027T020000
TZNAME:CET
TZOFFSETFROM:+0200
TZOFFSETTO:+0100
END:STANDARD
END:VTIMEZONE
END:VCALENDAR
