BEGIN:VCALENDAR
VERSION:2.0
PRODID:-//Plone.org//NONSGML plone.app.event//EN
X-WR-TIMEZONE:Europe/Rome
BEGIN:VEVENT
SUMMARY:Palestinian Refugees in International Law
DTSTART;TZID=Europe/Rome;VALUE=DATE-TIME:20211108T170000
DTEND;TZID=Europe/Rome;VALUE=DATE-TIME:20211108T190000
DTSTAMP;VALUE=DATE-TIME:20260419T201529Z
UID:ec29b174f82449dc838fa9351c23ba34@dsps.unibo.it
CREATED;VALUE=DATE-TIME:20211022T084803Z
LAST-MODIFIED;VALUE=DATE-TIME:20211029T113129Z
URL:https://dsps.unibo.it/it/eventi/palestinian-refugees-in-interantional-
 law
END:VEVENT
BEGIN:VTIMEZONE
TZID:Europe/Rome
X-LIC-LOCATION:Europe/Rome
BEGIN:STANDARD
DTSTART;VALUE=DATE-TIME:20211031T020000
TZNAME:CET
TZOFFSETFROM:+0200
TZOFFSETTO:+0100
END:STANDARD
END:VTIMEZONE
END:VCALENDAR
