BEGIN:VCALENDAR
VERSION:2.0
PRODID:-//Plone.org//NONSGML plone.app.event//EN
X-WR-TIMEZONE:Europe/Rome
BEGIN:VEVENT
SUMMARY:Over the Atlantic
DTSTART;TZID=Europe/Rome;VALUE=DATE-TIME:20211118T143000
DTEND;TZID=Europe/Rome;VALUE=DATE-TIME:20211119T183000
DTSTAMP;VALUE=DATE-TIME:20260419T185409Z
UID:ac9a8d5d1fde4ee09beebc6099a5050e@dsps.unibo.it
CREATED;VALUE=DATE-TIME:20211112T152658Z
DESCRIPTION:International conference on EU and Latin American Relations\, 
 between Diplomacy and Paradiplomacy
LAST-MODIFIED;VALUE=DATE-TIME:20211115T173008Z
URL:https://dsps.unibo.it/it/eventi/over-the-atlantic
END:VEVENT
BEGIN:VTIMEZONE
TZID:Europe/Rome
X-LIC-LOCATION:Europe/Rome
BEGIN:STANDARD
DTSTART;VALUE=DATE-TIME:20211031T020000
TZNAME:CET
TZOFFSETFROM:+0200
TZOFFSETTO:+0100
END:STANDARD
END:VTIMEZONE
END:VCALENDAR
