BEGIN:VCALENDAR
VERSION:2.0
PRODID:-//Plone.org//NONSGML plone.app.event//EN
X-WR-TIMEZONE:Europe/Rome
BEGIN:VEVENT
SUMMARY:"Our Posthuman Future: Consequences of the Biotechnology Revolutio
 n" di Francis Fukuyama
DTSTART;TZID=Europe/Rome;VALUE=DATE-TIME:20210527T170000
DTEND;TZID=Europe/Rome;VALUE=DATE-TIME:20210527T180000
DTSTAMP;VALUE=DATE-TIME:20260419T190132Z
UID:05cdc800ef32451e963ce4955a8d43dd@dsps.unibo.it
CREATED;VALUE=DATE-TIME:20210223T084214Z
DESCRIPTION:Ciclo di seminari "Dell’utilità e il danno dell’algoritmo
  per la vita: ovvero dell’artificialità intelligente e del potere"
LAST-MODIFIED;VALUE=DATE-TIME:20210223T084321Z
URL:https://dsps.unibo.it/it/eventi/our-posthuman-future-consequences-of-t
 he-biotechnology-revolution-di-francis-fukuyama
END:VEVENT
BEGIN:VTIMEZONE
TZID:Europe/Rome
X-LIC-LOCATION:Europe/Rome
BEGIN:DAYLIGHT
DTSTART;VALUE=DATE-TIME:20210328T030000
TZNAME:CEST
TZOFFSETFROM:+0100
TZOFFSETTO:+0200
END:DAYLIGHT
END:VTIMEZONE
END:VCALENDAR
