BEGIN:VCALENDAR
VERSION:2.0
PRODID:-//Plone.org//NONSGML plone.app.event//EN
X-WR-TIMEZONE:Europe/Rome
BEGIN:VEVENT
SUMMARY:Online Debate: Balkans on the move. From migration crises to migra
 tion & development nexus
DTSTART;TZID=Europe/Rome;VALUE=DATE-TIME:20211215T153000
DTEND;TZID=Europe/Rome;VALUE=DATE-TIME:20211215T170000
DTSTAMP;VALUE=DATE-TIME:20260421T165303Z
UID:c335e70a57664407a4e45829f4f5eda7@dsps.unibo.it
CREATED;VALUE=DATE-TIME:20211206T170657Z
LAST-MODIFIED;VALUE=DATE-TIME:20211214T191532Z
URL:https://dsps.unibo.it/it/eventi/online-debate-balkans-on-the-move-from
 -migration-crises-to-migration-development-nexus
END:VEVENT
BEGIN:VTIMEZONE
TZID:Europe/Rome
X-LIC-LOCATION:Europe/Rome
BEGIN:STANDARD
DTSTART;VALUE=DATE-TIME:20211031T020000
TZNAME:CET
TZOFFSETFROM:+0200
TZOFFSETTO:+0100
END:STANDARD
END:VTIMEZONE
END:VCALENDAR
