BEGIN:VCALENDAR
VERSION:2.0
PRODID:-//Plone.org//NONSGML plone.app.event//EN
X-WR-TIMEZONE:Europe/Rome
BEGIN:VEVENT
SUMMARY:Officina Internazionale SiSi
DTSTART;VALUE=DATE:20251204
DTEND;VALUE=DATE:20251206
DTSTAMP;VALUE=DATE-TIME:20260420T201240Z
UID:d1ab1d7c523647648941921079c74588@dsps.unibo.it
CREATED;VALUE=DATE-TIME:20251106T085133Z
DESCRIPTION:WORKSHOP DEI GIOVANI STUDIOSI DI STORIA INTERNAZIONALE
LAST-MODIFIED;VALUE=DATE-TIME:20251106T085205Z
URL:https://dsps.unibo.it/it/eventi/officina-internazionale-sisi
END:VEVENT
END:VCALENDAR
