BEGIN:VCALENDAR
VERSION:2.0
PRODID:-//Plone.org//NONSGML plone.app.event//EN
X-WR-TIMEZONE:Europe/Rome
BEGIN:VEVENT
SUMMARY:Nonviolent Mobilization and the Recurrence of Civil War
DTSTART;TZID=Europe/Rome;VALUE=DATE-TIME:20251020T170000
DTEND;TZID=Europe/Rome;VALUE=DATE-TIME:20251020T190000
DTSTAMP;VALUE=DATE-TIME:20260422T122058Z
UID:7b1ad56188d84d58946c97f1e84e3de3@dsps.unibo.it
CREATED;VALUE=DATE-TIME:20251014T105920Z
DESCRIPTION:Seminar with Margherita Belgioioso (University of Leeds)
LAST-MODIFIED;VALUE=DATE-TIME:20251014T105920Z
URL:https://dsps.unibo.it/it/eventi/nonviolent-mobilization-and-the-recurr
 ence-of-civil-war
END:VEVENT
BEGIN:VTIMEZONE
TZID:Europe/Rome
X-LIC-LOCATION:Europe/Rome
BEGIN:DAYLIGHT
DTSTART;VALUE=DATE-TIME:20250330T030000
TZNAME:CEST
TZOFFSETFROM:+0100
TZOFFSETTO:+0200
END:DAYLIGHT
END:VTIMEZONE
END:VCALENDAR
