BEGIN:VCALENDAR
VERSION:2.0
PRODID:-//Plone.org//NONSGML plone.app.event//EN
X-WR-TIMEZONE:Europe/Rome
BEGIN:VEVENT
SUMMARY:Niente panico?
DTSTART;TZID=Europe/Rome;VALUE=DATE-TIME:20211118T093000
DTEND;TZID=Europe/Rome;VALUE=DATE-TIME:20211118T180000
DTSTAMP;VALUE=DATE-TIME:20260419T185607Z
UID:11b224c440c843a39e632cfaa9606792@dsps.unibo.it
CREATED;VALUE=DATE-TIME:20211025T063424Z
DESCRIPTION:Re-immaginare le migrazioni climatiche
LAST-MODIFIED;VALUE=DATE-TIME:20211025T063803Z
URL:https://dsps.unibo.it/it/eventi/niente-panico-re-immaginare-le-migrazi
 oni-climatiche
END:VEVENT
BEGIN:VTIMEZONE
TZID:Europe/Rome
X-LIC-LOCATION:Europe/Rome
BEGIN:STANDARD
DTSTART;VALUE=DATE-TIME:20211031T020000
TZNAME:CET
TZOFFSETFROM:+0200
TZOFFSETTO:+0100
END:STANDARD
END:VTIMEZONE
END:VCALENDAR
