BEGIN:VCALENDAR
VERSION:2.0
PRODID:-//Plone.org//NONSGML plone.app.event//EN
X-WR-TIMEZONE:Europe/Rome
BEGIN:VEVENT
SUMMARY:Nicolai Petro  "Ukraine and the Prospects for Peace”
DTSTART;TZID=Europe/Rome;VALUE=DATE-TIME:20210423T150000
DTEND;TZID=Europe/Rome;VALUE=DATE-TIME:20210423T170000
DTSTAMP;VALUE=DATE-TIME:20260419T225551Z
UID:42c122051d8043d0b383fa3f98b5c0ca@dsps.unibo.it
CREATED;VALUE=DATE-TIME:20210325T103706Z
DESCRIPTION:Webinar delle Giornate dell'Eccellenza SPS
LAST-MODIFIED;VALUE=DATE-TIME:20210325T104203Z
URL:https://dsps.unibo.it/it/eventi/nicolai-petro-ukraine-and-the-prospect
 s-for-peace
END:VEVENT
BEGIN:VTIMEZONE
TZID:Europe/Rome
X-LIC-LOCATION:Europe/Rome
BEGIN:DAYLIGHT
DTSTART;VALUE=DATE-TIME:20210328T030000
TZNAME:CEST
TZOFFSETFROM:+0100
TZOFFSETTO:+0200
END:DAYLIGHT
END:VTIMEZONE
END:VCALENDAR
