BEGIN:VCALENDAR
VERSION:2.0
PRODID:-//Plone.org//NONSGML plone.app.event//EN
X-WR-TIMEZONE:Europe/Rome
BEGIN:VEVENT
SUMMARY:NATO Facing Uncertain Times: Challenges and opportunities for NATO
DTSTART;TZID=Europe/Rome;VALUE=DATE-TIME:20210325T130000
DTEND;TZID=Europe/Rome;VALUE=DATE-TIME:20210325T150000
DTSTAMP;VALUE=DATE-TIME:20260421T154959Z
UID:c0b3deb88fc34580822805275ee453e6@dsps.unibo.it
CREATED;VALUE=DATE-TIME:20210325T092446Z
DESCRIPTION:Prof. James Sperling (Akron University\, USA) - in the context
  of the Course of Pan-European Security
LAST-MODIFIED;VALUE=DATE-TIME:20210325T094155Z
URL:https://dsps.unibo.it/it/eventi/nato-facing-uncertain-times-challenges
 -and-opportunities-for-nato
END:VEVENT
BEGIN:VTIMEZONE
TZID:Europe/Rome
X-LIC-LOCATION:Europe/Rome
BEGIN:STANDARD
DTSTART;VALUE=DATE-TIME:20201025T020000
TZNAME:CET
TZOFFSETFROM:+0200
TZOFFSETTO:+0100
END:STANDARD
END:VTIMEZONE
END:VCALENDAR
