BEGIN:VCALENDAR
VERSION:2.0
PRODID:-//Plone.org//NONSGML plone.app.event//EN
X-WR-TIMEZONE:Europe/Rome
BEGIN:VEVENT
SUMMARY:NATO at 2030: Reflection on Challenges\, Adaptability and Skills
DTSTART;TZID=Europe/Rome;VALUE=DATE-TIME:20210412T170000
DTEND;TZID=Europe/Rome;VALUE=DATE-TIME:20210412T190000
DTSTAMP;VALUE=DATE-TIME:20260421T224758Z
UID:f1a053d27a6a4c3d9b032ef04e60e5eb@dsps.unibo.it
CREATED;VALUE=DATE-TIME:20210325T100959Z
DESCRIPTION:Dick Bedford\, Director Strategic Engagement & Issues (NATO\, 
 Allied Command Transformation)\, in the context of the Course of Pan-Europ
 ean Security
LAST-MODIFIED;VALUE=DATE-TIME:20210325T101110Z
URL:https://dsps.unibo.it/it/eventi/nato-at-2030-reflection-on-challenges-
 adaptability-and-skills
END:VEVENT
BEGIN:VTIMEZONE
TZID:Europe/Rome
X-LIC-LOCATION:Europe/Rome
BEGIN:DAYLIGHT
DTSTART;VALUE=DATE-TIME:20210328T030000
TZNAME:CEST
TZOFFSETFROM:+0100
TZOFFSETTO:+0200
END:DAYLIGHT
END:VTIMEZONE
END:VCALENDAR
