BEGIN:VCALENDAR
VERSION:2.0
PRODID:-//Plone.org//NONSGML plone.app.event//EN
X-WR-TIMEZONE:Europe/Rome
BEGIN:VEVENT
SUMMARY:Multilateralism in Action: Political Affairs and Communication for
  IOs in Serbia and the Western Balkans
DTSTART;TZID=Europe/Rome;VALUE=DATE-TIME:20210608T170000
DTEND;TZID=Europe/Rome;VALUE=DATE-TIME:20210608T190000
DTSTAMP;VALUE=DATE-TIME:20260419T190136Z
UID:f2972042620d40fca0556bf026cf613a@dsps.unibo.it
CREATED;VALUE=DATE-TIME:20210601T061524Z
DESCRIPTION:Faris Mahmutović (class of 2016)\, Former Communication and P
 ublic Information Consultant at OSCE Mission to Serbia Former Junior Offic
 er at the Central European Initiative
LAST-MODIFIED;VALUE=DATE-TIME:20210601T061553Z
URL:https://dsps.unibo.it/it/eventi/multilateralism-in-action-political-af
 fairs-and-communication-for-ios-in-serbia-and-the-western-balkans
END:VEVENT
BEGIN:VTIMEZONE
TZID:Europe/Rome
X-LIC-LOCATION:Europe/Rome
BEGIN:DAYLIGHT
DTSTART;VALUE=DATE-TIME:20210328T030000
TZNAME:CEST
TZOFFSETFROM:+0100
TZOFFSETTO:+0200
END:DAYLIGHT
END:VTIMEZONE
END:VCALENDAR
