BEGIN:VCALENDAR
VERSION:2.0
PRODID:-//Plone.org//NONSGML plone.app.event//EN
X-WR-TIMEZONE:Europe/Rome
BEGIN:VEVENT
SUMMARY:Mozambique\, concp and transnational solidarities: third-worldism 
 from the cold war to the challenge of the "global south" in the 21st centu
 ry
DTSTART;TZID=Europe/Rome;VALUE=DATE-TIME:20250114T130000
DTEND;TZID=Europe/Rome;VALUE=DATE-TIME:20250114T140000
DTSTAMP;VALUE=DATE-TIME:20260420T163319Z
UID:53da4be2648b47b08a4776cd4f2d658e@dsps.unibo.it
CREATED;VALUE=DATE-TIME:20241016T080707Z
DESCRIPTION:Connect Seminar Series
LAST-MODIFIED;VALUE=DATE-TIME:20250107T150755Z
URL:https://dsps.unibo.it/it/eventi/mozambique-concp-and-transnational-sol
 idarities-third-worldism-from-the-cold-war-to-the-challenge-of-the-global-
 south-in-the-21st-century
END:VEVENT
BEGIN:VTIMEZONE
TZID:Europe/Rome
X-LIC-LOCATION:Europe/Rome
BEGIN:STANDARD
DTSTART;VALUE=DATE-TIME:20241027T020000
TZNAME:CET
TZOFFSETFROM:+0200
TZOFFSETTO:+0100
END:STANDARD
END:VTIMEZONE
END:VCALENDAR
