BEGIN:VCALENDAR
VERSION:2.0
PRODID:-//Plone.org//NONSGML plone.app.event//EN
X-WR-TIMEZONE:Europe/Rome
BEGIN:VEVENT
SUMMARY:Migrazioni\, Cambiamento Climatico e Problematiche Giuridiche
DTSTART;TZID=Europe/Rome;VALUE=DATE-TIME:20210517T173000
DTEND;TZID=Europe/Rome;VALUE=DATE-TIME:20210517T193000
DTSTAMP;VALUE=DATE-TIME:20260419T183338Z
UID:e770db5d55f0434fb102aff1dd4816c4@dsps.unibo.it
CREATED;VALUE=DATE-TIME:20210511T080335Z
DESCRIPTION:Seminario
LAST-MODIFIED;VALUE=DATE-TIME:20210511T081309Z
URL:https://dsps.unibo.it/it/eventi/migrazioni-cambiamento-climatico-e-pro
 blematiche-giuridiche
END:VEVENT
BEGIN:VTIMEZONE
TZID:Europe/Rome
X-LIC-LOCATION:Europe/Rome
BEGIN:DAYLIGHT
DTSTART;VALUE=DATE-TIME:20210328T030000
TZNAME:CEST
TZOFFSETFROM:+0100
TZOFFSETTO:+0200
END:DAYLIGHT
END:VTIMEZONE
END:VCALENDAR
