BEGIN:VCALENDAR
VERSION:2.0
PRODID:-//Plone.org//NONSGML plone.app.event//EN
X-WR-TIMEZONE:Europe/Rome
BEGIN:VEVENT
SUMMARY:Migrazione e sviluppo sostenibile
DTSTART;TZID=Europe/Rome;VALUE=DATE-TIME:20210507T170000
DTEND;TZID=Europe/Rome;VALUE=DATE-TIME:20210507T190000
DTSTAMP;VALUE=DATE-TIME:20260419T200554Z
UID:7893f438d1e84e8682ebab6c2258f6c1@dsps.unibo.it
CREATED;VALUE=DATE-TIME:20210427T160745Z
DESCRIPTION:Webinars delle Giornate dell'Eccellenza SPS
LAST-MODIFIED;VALUE=DATE-TIME:20210427T160919Z
URL:https://dsps.unibo.it/it/eventi/migrazione-e-sviluppo-sostenibile
END:VEVENT
BEGIN:VTIMEZONE
TZID:Europe/Rome
X-LIC-LOCATION:Europe/Rome
BEGIN:DAYLIGHT
DTSTART;VALUE=DATE-TIME:20210328T030000
TZNAME:CEST
TZOFFSETFROM:+0100
TZOFFSETTO:+0200
END:DAYLIGHT
END:VTIMEZONE
END:VCALENDAR
