BEGIN:VCALENDAR
VERSION:2.0
PRODID:-//Plone.org//NONSGML plone.app.event//EN
X-WR-TIMEZONE:Europe/Rome
BEGIN:VEVENT
SUMMARY:"Manifesto cyborg. Donne\, tecnologie e biopolitiche del corpo"\; 
 "Chthulucene. Sopravvivere su un pianeta infetto"\; "Le promesse dei mostr
 i. Una politica rigeneratrice per l'alterità inappropriata" di Donna J. H
 araway
DTSTART;TZID=Europe/Rome;VALUE=DATE-TIME:20210610T170000
DTEND;TZID=Europe/Rome;VALUE=DATE-TIME:20210610T180000
DTSTAMP;VALUE=DATE-TIME:20260419T190208Z
UID:fa9909bfa09240aa8af5203d36f4b791@dsps.unibo.it
CREATED;VALUE=DATE-TIME:20210223T084543Z
DESCRIPTION:Ciclo di seminari "Dell’utilità e il danno dell’algoritmo
  per la vita: ovvero dell’artificialità intelligente e del potere"
LAST-MODIFIED;VALUE=DATE-TIME:20210223T084809Z
URL:https://dsps.unibo.it/it/eventi/manifesto-cyborg-donne-tecnologie-e-bi
 opolitiche-del-corpo-chthulucene-sopravvivere-su-un-pianeta-infetto-le-pro
 messe-dei-mostri-una-politica-rigeneratrice-per-l-alterita-inappropriata-d
 i-donna-j-haraway
END:VEVENT
BEGIN:VTIMEZONE
TZID:Europe/Rome
X-LIC-LOCATION:Europe/Rome
BEGIN:DAYLIGHT
DTSTART;VALUE=DATE-TIME:20210328T030000
TZNAME:CEST
TZOFFSETFROM:+0100
TZOFFSETTO:+0200
END:DAYLIGHT
END:VTIMEZONE
END:VCALENDAR
