BEGIN:VCALENDAR
VERSION:2.0
PRODID:-//Plone.org//NONSGML plone.app.event//EN
X-WR-TIMEZONE:Europe/Rome
BEGIN:VEVENT
SUMMARY:Managing Diversity through Diplomacy and Regional Cooperation: the
  Adriatic and Ionian Region
DTSTART;TZID=Europe/Rome;VALUE=DATE-TIME:20210531T170000
DTEND;TZID=Europe/Rome;VALUE=DATE-TIME:20210531T190000
DTSTAMP;VALUE=DATE-TIME:20260419T190132Z
UID:72e3fa0e82434d7f9ffcda044075f6b9@dsps.unibo.it
CREATED;VALUE=DATE-TIME:20210520T075350Z
DESCRIPTION:MIREES Open Lecture
LAST-MODIFIED;VALUE=DATE-TIME:20210520T075531Z
URL:https://dsps.unibo.it/it/eventi/managing-diversity-through-diplomacy-a
 nd-regional-cooperation-the-adriatic-and-ionian-region
END:VEVENT
BEGIN:VTIMEZONE
TZID:Europe/Rome
X-LIC-LOCATION:Europe/Rome
BEGIN:DAYLIGHT
DTSTART;VALUE=DATE-TIME:20210328T030000
TZNAME:CEST
TZOFFSETFROM:+0100
TZOFFSETTO:+0200
END:DAYLIGHT
END:VTIMEZONE
END:VCALENDAR
