BEGIN:VCALENDAR
VERSION:2.0
PRODID:-//Plone.org//NONSGML plone.app.event//EN
X-WR-TIMEZONE:Europe/Rome
BEGIN:VEVENT
SUMMARY:Managing Diversity through Dialogue: Deliberation in Deeply Divide
 d Societies
DTSTART;TZID=Europe/Rome;VALUE=DATE-TIME:20210527T150000
DTEND;TZID=Europe/Rome;VALUE=DATE-TIME:20210527T170000
DTSTAMP;VALUE=DATE-TIME:20260419T201654Z
UID:59764002700944cf80bd3697d1999d0b@dsps.unibo.it
CREATED;VALUE=DATE-TIME:20210520T075048Z
DESCRIPTION:MIREES Open Lecture
LAST-MODIFIED;VALUE=DATE-TIME:20210520T075216Z
URL:https://dsps.unibo.it/it/eventi/managing-diversity-through-dialogue-de
 liberation-in-deeply-divided-societies
END:VEVENT
BEGIN:VTIMEZONE
TZID:Europe/Rome
X-LIC-LOCATION:Europe/Rome
BEGIN:DAYLIGHT
DTSTART;VALUE=DATE-TIME:20210328T030000
TZNAME:CEST
TZOFFSETFROM:+0100
TZOFFSETTO:+0200
END:DAYLIGHT
END:VTIMEZONE
END:VCALENDAR
