BEGIN:VCALENDAR
VERSION:2.0
PRODID:-//Plone.org//NONSGML plone.app.event//EN
X-WR-TIMEZONE:Europe/Rome
BEGIN:VEVENT
SUMMARY:Thirty Years After the Soviet Collapse: Remapping Identity Politic
 s in Post-Soviet Ukraine
DTSTART;TZID=Europe/Rome;VALUE=DATE-TIME:20210127T120000
DTEND;TZID=Europe/Rome;VALUE=DATE-TIME:20210127T130000
DTSTAMP;VALUE=DATE-TIME:20260419T190209Z
UID:89ac426f6bb34dac98b74279a0808f2f@dsps.unibo.it
CREATED;VALUE=DATE-TIME:20201216T092641Z
DESCRIPTION:Ciclo di seminari assegnisti di dipartimento
LAST-MODIFIED;VALUE=DATE-TIME:20210122T081453Z
URL:https://dsps.unibo.it/it/eventi/lo-spazio-post-sovietico-alla-vigilia-
 dei-trent-anni-dal-crollo-dell-urss-russia-e-ucraina-tra-vettori-divergent
 i-di-evoluzione-storica
END:VEVENT
BEGIN:VTIMEZONE
TZID:Europe/Rome
X-LIC-LOCATION:Europe/Rome
BEGIN:STANDARD
DTSTART;VALUE=DATE-TIME:20201025T020000
TZNAME:CET
TZOFFSETFROM:+0200
TZOFFSETTO:+0100
END:STANDARD
END:VTIMEZONE
END:VCALENDAR
