BEGIN:VCALENDAR
VERSION:2.0
PRODID:-//Plone.org//NONSGML plone.app.event//EN
X-WR-TIMEZONE:Europe/Rome
BEGIN:VEVENT
SUMMARY:Lecture on  Iran and the Regional Relations of the Post-1979 Middl
 e East
DTSTART;TZID=Europe/Rome;VALUE=DATE-TIME:20210526T130000
DTEND;TZID=Europe/Rome;VALUE=DATE-TIME:20210526T150000
DTSTAMP;VALUE=DATE-TIME:20260419T190043Z
UID:8a4f36302ff84551ac6443a4bb1d8f5a@dsps.unibo.it
CREATED;VALUE=DATE-TIME:20210518T091346Z
DESCRIPTION:BA in International Relations and Diplomatic Affairs\nCourse o
 n History and Institutions of the Middle East\na.y. 2020/2021
LAST-MODIFIED;VALUE=DATE-TIME:20210518T100024Z
URL:https://dsps.unibo.it/it/eventi/lecture-on-iran-and-the-regional-relat
 ions-of-the-post-1979-middle-east
END:VEVENT
BEGIN:VTIMEZONE
TZID:Europe/Rome
X-LIC-LOCATION:Europe/Rome
BEGIN:DAYLIGHT
DTSTART;VALUE=DATE-TIME:20210328T030000
TZNAME:CEST
TZOFFSETFROM:+0100
TZOFFSETTO:+0200
END:DAYLIGHT
END:VTIMEZONE
END:VCALENDAR
