BEGIN:VCALENDAR
VERSION:2.0
PRODID:-//Plone.org//NONSGML plone.app.event//EN
X-WR-TIMEZONE:Europe/Rome
BEGIN:VEVENT
SUMMARY:Le sfide della cybersecurity al sistema finanziario\, e le opportu
 nità di affrontarle unendo pubblico\, privato e ricerca
DTSTART;TZID=Europe/Rome;VALUE=DATE-TIME:20210524T153000
DTEND;TZID=Europe/Rome;VALUE=DATE-TIME:20210524T180000
DTSTAMP;VALUE=DATE-TIME:20260419T190043Z
UID:731d02d38bcb416290dea8d49015252d@dsps.unibo.it
CREATED;VALUE=DATE-TIME:20210504T104557Z
LAST-MODIFIED;VALUE=DATE-TIME:20210507T070020Z
URL:https://dsps.unibo.it/it/eventi/le-sfide-della-cybersecurity-al-sistem
 a-finanziario-e-le-opportunita-di-affrontarle-unendo-pubblico-privato-e-ri
 cerca
END:VEVENT
BEGIN:VTIMEZONE
TZID:Europe/Rome
X-LIC-LOCATION:Europe/Rome
BEGIN:DAYLIGHT
DTSTART;VALUE=DATE-TIME:20210328T030000
TZNAME:CEST
TZOFFSETFROM:+0100
TZOFFSETTO:+0200
END:DAYLIGHT
END:VTIMEZONE
END:VCALENDAR
