BEGIN:VCALENDAR
VERSION:2.0
PRODID:-//Plone.org//NONSGML plone.app.event//EN
X-WR-TIMEZONE:Europe/Rome
BEGIN:VEVENT
SUMMARY:Le sfide del welfare e della sua governance territoriale
DTSTART;TZID=Europe/Rome;VALUE=DATE-TIME:20211129T093000
DTEND;TZID=Europe/Rome;VALUE=DATE-TIME:20211129T123000
DTSTAMP;VALUE=DATE-TIME:20260419T201529Z
UID:b1e205d3d0ed45e1abd8977c5e489e53@dsps.unibo.it
CREATED;VALUE=DATE-TIME:20211110T120031Z
DESCRIPTION:Seminario online promosso dal Master in “Governance e innova
 zioni di welfare locale”
LAST-MODIFIED;VALUE=DATE-TIME:20211110T120512Z
URL:https://dsps.unibo.it/it/eventi/le-sfide-del-welfare-e-della-sua-gover
 nance-territoriale
END:VEVENT
BEGIN:VTIMEZONE
TZID:Europe/Rome
X-LIC-LOCATION:Europe/Rome
BEGIN:STANDARD
DTSTART;VALUE=DATE-TIME:20211031T020000
TZNAME:CET
TZOFFSETFROM:+0200
TZOFFSETTO:+0100
END:STANDARD
END:VTIMEZONE
END:VCALENDAR
