BEGIN:VCALENDAR
VERSION:2.0
PRODID:-//Plone.org//NONSGML plone.app.event//EN
X-WR-TIMEZONE:Europe/Rome
BEGIN:VEVENT
SUMMARY:Le mafie come organizzazioni 
DTSTART;TZID=Europe/Rome;VALUE=DATE-TIME:20210409T130000
DTEND;TZID=Europe/Rome;VALUE=DATE-TIME:20210409T150000
DTSTAMP;VALUE=DATE-TIME:20260421T154817Z
UID:de92b9589dab4166b469664d28be785b@dsps.unibo.it
CREATED;VALUE=DATE-TIME:20210331T082556Z
LAST-MODIFIED;VALUE=DATE-TIME:20210331T104021Z
URL:https://dsps.unibo.it/it/eventi/le-mafie-come-organizzazioni
END:VEVENT
BEGIN:VTIMEZONE
TZID:Europe/Rome
X-LIC-LOCATION:Europe/Rome
BEGIN:DAYLIGHT
DTSTART;VALUE=DATE-TIME:20210328T030000
TZNAME:CEST
TZOFFSETFROM:+0100
TZOFFSETTO:+0200
END:DAYLIGHT
END:VTIMEZONE
END:VCALENDAR
