BEGIN:VCALENDAR
VERSION:2.0
PRODID:-//Plone.org//NONSGML plone.app.event//EN
X-WR-TIMEZONE:Europe/Rome
BEGIN:VEVENT
SUMMARY:Labour markets and emigration in Spain in the XXth century
DTSTART;TZID=Europe/Rome;VALUE=DATE-TIME:20211105T150000
DTEND;TZID=Europe/Rome;VALUE=DATE-TIME:20211105T170000
DTSTAMP;VALUE=DATE-TIME:20260419T223242Z
UID:6fd49d43cbeb40f08c09dae8ae224c14@dsps.unibo.it
CREATED;VALUE=DATE-TIME:20211026T074334Z
DESCRIPTION:Gloria Sanz Lafuente (Universidad Pública de Navarra)
LAST-MODIFIED;VALUE=DATE-TIME:20211026T074655Z
URL:https://dsps.unibo.it/it/eventi/labour-markets-and-emigration-in-spain
 -in-the-xxth-century
END:VEVENT
BEGIN:VTIMEZONE
TZID:Europe/Rome
X-LIC-LOCATION:Europe/Rome
BEGIN:STANDARD
DTSTART;VALUE=DATE-TIME:20211031T020000
TZNAME:CET
TZOFFSETFROM:+0200
TZOFFSETTO:+0100
END:STANDARD
END:VTIMEZONE
END:VCALENDAR
