BEGIN:VCALENDAR
VERSION:2.0
PRODID:-//Plone.org//NONSGML plone.app.event//EN
X-WR-TIMEZONE:Europe/Rome
BEGIN:VEVENT
SUMMARY:La fine della Guerra fredda e il dilemma dell'ampliamento della NA
 TO
DTSTART;TZID=Europe/Rome;VALUE=DATE-TIME:20211210T150000
DTEND;TZID=Europe/Rome;VALUE=DATE-TIME:20211210T170000
DTSTAMP;VALUE=DATE-TIME:20260419T185834Z
UID:ae6e20c7bc7d40198f828a32406e76a2@dsps.unibo.it
CREATED;VALUE=DATE-TIME:20211116T135417Z
DESCRIPTION:Leopoldo Nuti\, Università degli Studi Roma Tre
LAST-MODIFIED;VALUE=DATE-TIME:20211116T135807Z
URL:https://dsps.unibo.it/it/eventi/la-fine-della-guerra-fredda-e-il-dilem
 ma-dell-ampliamento-della-nato
END:VEVENT
BEGIN:VTIMEZONE
TZID:Europe/Rome
X-LIC-LOCATION:Europe/Rome
BEGIN:STANDARD
DTSTART;VALUE=DATE-TIME:20211031T020000
TZNAME:CET
TZOFFSETFROM:+0200
TZOFFSETTO:+0100
END:STANDARD
END:VTIMEZONE
END:VCALENDAR
