BEGIN:VCALENDAR
VERSION:2.0
PRODID:-//Plone.org//NONSGML plone.app.event//EN
X-WR-TIMEZONE:Europe/Rome
BEGIN:VEVENT
SUMMARY:La falsa guerra. Pandemia e analogia medico-politica - Secondo inc
 ontro
DTSTART;TZID=Europe/Rome;VALUE=DATE-TIME:20210222T180000
DTEND;TZID=Europe/Rome;VALUE=DATE-TIME:20210222T193000
DTSTAMP;VALUE=DATE-TIME:20260419T233041Z
UID:e8234f8b33574512a13cb49eb5a438a1@dsps.unibo.it
CREATED;VALUE=DATE-TIME:20210209T162540Z
LAST-MODIFIED;VALUE=DATE-TIME:20210209T162540Z
URL:https://dsps.unibo.it/it/eventi/la-falsa-guerra-pandemia-e-analogia-me
 dico-politica-secondo-incontro
END:VEVENT
BEGIN:VTIMEZONE
TZID:Europe/Rome
X-LIC-LOCATION:Europe/Rome
BEGIN:STANDARD
DTSTART;VALUE=DATE-TIME:20201025T020000
TZNAME:CET
TZOFFSETFROM:+0200
TZOFFSETTO:+0100
END:STANDARD
END:VTIMEZONE
END:VCALENDAR
