BEGIN:VCALENDAR
VERSION:2.0
PRODID:-//Plone.org//NONSGML plone.app.event//EN
X-WR-TIMEZONE:Europe/Rome
BEGIN:VEVENT
SUMMARY:La falsa guerra. Pandemia e analogia medico-politica - Primo incon
 tro
DTSTART;TZID=Europe/Rome;VALUE=DATE-TIME:20210220T180000
DTEND;TZID=Europe/Rome;VALUE=DATE-TIME:20210220T193000
DTSTAMP;VALUE=DATE-TIME:20260419T183658Z
UID:9bdf8840d33c4421bba6d3af15c1c242@dsps.unibo.it
CREATED;VALUE=DATE-TIME:20210209T162526Z
LAST-MODIFIED;VALUE=DATE-TIME:20210209T162531Z
URL:https://dsps.unibo.it/it/eventi/la-falsa-guerra-pandemia-e-analogia-me
 dico-politica-primo-incontro
END:VEVENT
BEGIN:VTIMEZONE
TZID:Europe/Rome
X-LIC-LOCATION:Europe/Rome
BEGIN:STANDARD
DTSTART;VALUE=DATE-TIME:20201025T020000
TZNAME:CET
TZOFFSETFROM:+0200
TZOFFSETTO:+0100
END:STANDARD
END:VTIMEZONE
END:VCALENDAR
