BEGIN:VCALENDAR
VERSION:2.0
PRODID:-//Plone.org//NONSGML plone.app.event//EN
X-WR-TIMEZONE:Europe/Rome
BEGIN:VEVENT
SUMMARY:La falsa guerra. Pandemia e analogia medico-politica - Conversazio
 ne on-air con Roberto Paci Dalò su Usmaradio
DTSTART;TZID=Europe/Rome;VALUE=DATE-TIME:20210302T180000
DTEND;TZID=Europe/Rome;VALUE=DATE-TIME:20210302T193000
DTSTAMP;VALUE=DATE-TIME:20260419T221015Z
UID:9466cc5037d44db89fafd65608222298@dsps.unibo.it
CREATED;VALUE=DATE-TIME:20210209T162535Z
LAST-MODIFIED;VALUE=DATE-TIME:20210209T162536Z
URL:https://dsps.unibo.it/it/eventi/la-falsa-guerra-pandemia-e-analogia-me
 dico-politica-conversazione-on-air-con-roberto-paci-dalo-su-usmaradio
END:VEVENT
BEGIN:VTIMEZONE
TZID:Europe/Rome
X-LIC-LOCATION:Europe/Rome
BEGIN:STANDARD
DTSTART;VALUE=DATE-TIME:20201025T020000
TZNAME:CET
TZOFFSETFROM:+0200
TZOFFSETTO:+0100
END:STANDARD
END:VTIMEZONE
END:VCALENDAR
