BEGIN:VCALENDAR
VERSION:2.0
PRODID:-//Plone.org//NONSGML plone.app.event//EN
X-WR-TIMEZONE:Europe/Rome
BEGIN:VEVENT
SUMMARY:LA CRISI IN UCRAINA E IL FUTURO DEI RAPPORTI TRA RUSSIA E UE
DTSTART;TZID=Europe/Rome;VALUE=DATE-TIME:20150312T110000
DTEND;TZID=Europe/Rome;VALUE=DATE-TIME:20150312T130000
DTSTAMP;VALUE=DATE-TIME:20260420T030102Z
UID:e82e0d61c4924e6aa807e48b98b96543@dsps.unibo.it
CREATED;VALUE=DATE-TIME:20150311T083319Z
LAST-MODIFIED;VALUE=DATE-TIME:20150311T083457Z
URL:https://dsps.unibo.it/it/eventi/la-crisi-in-ucraina-e-il-futuro-dei-ra
 pporti-tra-russia-e-ue
END:VEVENT
BEGIN:VTIMEZONE
TZID:Europe/Rome
X-LIC-LOCATION:Europe/Rome
BEGIN:STANDARD
DTSTART;VALUE=DATE-TIME:20141026T020000
TZNAME:CET
TZOFFSETFROM:+0200
TZOFFSETTO:+0100
END:STANDARD
END:VTIMEZONE
END:VCALENDAR
