BEGIN:VCALENDAR
VERSION:2.0
PRODID:-//Plone.org//NONSGML plone.app.event//EN
X-WR-TIMEZONE:Europe/Rome
BEGIN:VEVENT
SUMMARY:PRESENTAZIONE DEL LIBRO: La Coldiretti e la storia d'Italia
DTSTART;TZID=Europe/Rome;VALUE=DATE-TIME:20210304T173000
DTEND;TZID=Europe/Rome;VALUE=DATE-TIME:20210304T190000
DTSTAMP;VALUE=DATE-TIME:20260419T215355Z
UID:2a083e5dfd984798ac0130933aafbbc5@dsps.unibo.it
CREATED;VALUE=DATE-TIME:20210225T170558Z
DESCRIPTION:Presentazione del volume "La Coldiretti e la storia d'Italia. 
 Rappresentanza e partecipazione dal dopoguerra agli anni ottanta"\, 2020\,
  Roma\, Donzelli\, di Emanuele Bernardi
LAST-MODIFIED;VALUE=DATE-TIME:20210304T100408Z
URL:https://dsps.unibo.it/it/eventi/la-coldiretti-e-la-storia-ditalia
END:VEVENT
BEGIN:VTIMEZONE
TZID:Europe/Rome
X-LIC-LOCATION:Europe/Rome
BEGIN:STANDARD
DTSTART;VALUE=DATE-TIME:20201025T020000
TZNAME:CET
TZOFFSETFROM:+0200
TZOFFSETTO:+0100
END:STANDARD
END:VTIMEZONE
END:VCALENDAR
