BEGIN:VCALENDAR
VERSION:2.0
PRODID:-//Plone.org//NONSGML plone.app.event//EN
X-WR-TIMEZONE:Europe/Rome
BEGIN:VEVENT
SUMMARY:La Cina nel nuovo Secolo: sfide interne e internazionali
DTSTART;TZID=Europe/Rome;VALUE=DATE-TIME:20210513T170000
DTEND;TZID=Europe/Rome;VALUE=DATE-TIME:20210513T190000
DTSTAMP;VALUE=DATE-TIME:20260419T215646Z
UID:d28359c8298d4665a7ca923eb0410d7e@dsps.unibo.it
CREATED;VALUE=DATE-TIME:20210507T071958Z
DESCRIPTION:Conferenza del Prof. Guido Samarani\, Università Ca' Foscari\
 , Venezia
LAST-MODIFIED;VALUE=DATE-TIME:20210507T080632Z
URL:https://dsps.unibo.it/it/eventi/la-cina-nel-nuovo-secolo-sfide-interne
 -e-internazionali
END:VEVENT
BEGIN:VTIMEZONE
TZID:Europe/Rome
X-LIC-LOCATION:Europe/Rome
BEGIN:DAYLIGHT
DTSTART;VALUE=DATE-TIME:20210328T030000
TZNAME:CEST
TZOFFSETFROM:+0100
TZOFFSETTO:+0200
END:DAYLIGHT
END:VTIMEZONE
END:VCALENDAR
