BEGIN:VCALENDAR
VERSION:2.0
PRODID:-//Plone.org//NONSGML plone.app.event//EN
X-WR-TIMEZONE:Europe/Rome
BEGIN:VEVENT
SUMMARY:La Cee alla prova: il difficile sostegno alla democrazia in Spagna
  durante il franchismo. Nuove interpretazioni storiografiche
DTSTART;TZID=Europe/Rome;VALUE=DATE-TIME:20211207T170000
DTEND;TZID=Europe/Rome;VALUE=DATE-TIME:20211207T190000
DTSTAMP;VALUE=DATE-TIME:20260419T171540Z
UID:4969e52c45f049709b672bbe16dcf539@dsps.unibo.it
CREATED;VALUE=DATE-TIME:20211204T204726Z
LAST-MODIFIED;VALUE=DATE-TIME:20211206T113004Z
URL:https://dsps.unibo.it/it/eventi/la-cee-alla-prova-il-difficile-sostegn
 o-alla-democrazia-in-spagna-durante-il-franchismo-nuove-interpretazioni-st
 oriografiche
END:VEVENT
BEGIN:VTIMEZONE
TZID:Europe/Rome
X-LIC-LOCATION:Europe/Rome
BEGIN:STANDARD
DTSTART;VALUE=DATE-TIME:20211031T020000
TZNAME:CET
TZOFFSETFROM:+0200
TZOFFSETTO:+0100
END:STANDARD
END:VTIMEZONE
END:VCALENDAR
